BEGIN:VCALENDAR
VERSION:2.0
PRODID:-//Austin N Pritchard - ECPv6.15.1.1//NONSGML v1.0//EN
CALSCALE:GREGORIAN
METHOD:PUBLISH
X-ORIGINAL-URL:https://www.austinnpritchard.com
X-WR-CALDESC:Events for Austin N Pritchard
REFRESH-INTERVAL;VALUE=DURATION:PT1H
X-Robots-Tag:noindex
X-PUBLISHED-TTL:PT1H
BEGIN:VTIMEZONE
TZID:America/New_York
BEGIN:DAYLIGHT
TZOFFSETFROM:-0500
TZOFFSETTO:-0400
TZNAME:EDT
DTSTART:20180311T070000
END:DAYLIGHT
BEGIN:STANDARD
TZOFFSETFROM:-0400
TZOFFSETTO:-0500
TZNAME:EST
DTSTART:20181104T060000
END:STANDARD
END:VTIMEZONE
BEGIN:VEVENT
DTSTART;TZID=America/New_York:20180218T090000
DTEND;TZID=America/New_York:20180218T103000
DTSTAMP:20260423T154308
CREATED:20180124T211718Z
LAST-MODIFIED:20180124T211718Z
UID:1161-1518944400-1518949800@www.austinnpritchard.com
SUMMARY:Intentional Choices
DESCRIPTION:Austin is speaking on how intentional choices are the backbone to healthy lasting love. \nThis is the 3rd week of a 4 week series titles INTENTIONAL LOVE. \nEach week we cover an aspect of love: Storge\, Philos\, Agape\, & Eros. \nShare:\n				Share on X (Opens in new window)\n				X\n			\n				Share on Facebook (Opens in new window)\n				Facebook\n			\n				Share on Reddit (Opens in new window)\n				Reddit\n			\n				Share on Tumblr (Opens in new window)\n				Tumblr\n			\n				Share on LinkedIn (Opens in new window)\n				LinkedIn\n			Like this:Like Loading...
URL:https://www.austinnpritchard.com/event/intentional-choices/
LOCATION:The Intersection Church\, 1980 Baltimore Pike\, Gettysburg\, PA\, 17325\, United States
CATEGORIES:Preaching,Speaking
ATTACH;FMTTYPE=image/jpeg:https://www.austinnpritchard.com/wp-content/uploads/2018/01/Intentional_Love.jpg
END:VEVENT
END:VCALENDAR